BEGIN:VCALENDAR
VERSION:2.0
PRODID:-//Espresso Jackie  - ECPv6.15.20//NONSGML v1.0//EN
CALSCALE:GREGORIAN
METHOD:PUBLISH
X-ORIGINAL-URL:https://espresso-jackie.at
X-WR-CALDESC:Veranstaltungen für Espresso Jackie 
REFRESH-INTERVAL;VALUE=DURATION:PT1H
X-Robots-Tag:noindex
X-PUBLISHED-TTL:PT1H
BEGIN:VTIMEZONE
TZID:UTC
BEGIN:STANDARD
TZOFFSETFROM:+0000
TZOFFSETTO:+0000
TZNAME:UTC
DTSTART:20240101T000000
END:STANDARD
END:VTIMEZONE
BEGIN:VEVENT
DTSTART;TZID=UTC:20251024T180000
DTEND;TZID=UTC:20251024T220000
DTSTAMP:20260420T013629
CREATED:20250830T073237Z
LAST-MODIFIED:20251010T200043Z
UID:775-1761328800-1761343200@espresso-jackie.at
SUMMARY:Musik@Jackie - spooky Halloween mit Richy Bryan von Black Lucy
DESCRIPTION:Halloween Feier mit Halloween Specials\, Getränke special für Gäste\, die verkleidet kommen\, und TOP musikalischer Unterhaltung – freut euch drauf! Details folgen zeitnah! wir freuen uns schon!
URL:https://espresso-jackie.at/event/musikjackie-spooky-halloween-mit-richymarkus/
LOCATION:Espresso Jackie\, Thaliastraße 148\, Wien\, 1160\, Austria
ORGANIZER;CN="Espresso Jackie%3B Thaliastra%C3%9Fe 148":MAILTO:michael@espresso-jackie.at
END:VEVENT
END:VCALENDAR