BEGIN:VCALENDAR
VERSION:2.0
PRODID:-//Espresso Jackie  - ECPv6.15.20//NONSGML v1.0//EN
CALSCALE:GREGORIAN
METHOD:PUBLISH
X-ORIGINAL-URL:https://espresso-jackie.at
X-WR-CALDESC:Veranstaltungen für Espresso Jackie 
REFRESH-INTERVAL;VALUE=DURATION:PT1H
X-Robots-Tag:noindex
X-PUBLISHED-TTL:PT1H
BEGIN:VTIMEZONE
TZID:UTC
BEGIN:STANDARD
TZOFFSETFROM:+0000
TZOFFSETTO:+0000
TZNAME:UTC
DTSTART:20250101T000000
END:STANDARD
END:VTIMEZONE
BEGIN:VEVENT
DTSTART;TZID=UTC:20260130T170000
DTEND;TZID=UTC:20260130T210000
DTSTAMP:20260419T184945
CREATED:20251107T182402Z
LAST-MODIFIED:20260108T204429Z
UID:893-1769792400-1769806800@espresso-jackie.at
SUMMARY:Musik@Jackie - "Sing mit uns\, bis es schneit in Wien" mit DJ Johnny
DESCRIPTION:Der Winter hat lange genug gedauert – jetzt wird zurückgesungen! \n\n\n\nPack deinen Lieblingssong ein\, schnapp dir das Mikro und werde Teil der Karaoke-Show mit DJ Johnny. Ob Hit\, Klassiker oder Guilty Pleasure – alles ist erlaubt\, Hauptsache mit Gefühl. \n\n\n\nDich erwarten \n\n\n\n🍻 Speis & Trank – dafür sorgen wir!🎶 Gute Stimmung – schaffen wir gemeinsam!🎤 Mut zum Singen – den nimmst Du mit – wir singen mit! \n\n\n\nEgal ob Bühnenprofi oder Duschensänger – alle sind willkommen.Komm vorbei\, sing mit und mach den Abend unvergesslich! \n\n\n\n\n\n\n\nEspresso Jackie – #HierSpieltDieMusik
URL:https://espresso-jackie.at/event/musikjackie-karaoke-show-mit-dj-johnny/
LOCATION:Espresso Jackie\, Thaliastraße 148\, Wien\, 1160\, Austria
ATTACH;FMTTYPE=image/jpeg:https://espresso-jackie.at/wp-content/uploads/2025/11/Flyer-Poster-roh.jpeg
ORGANIZER;CN="Espresso Jackie Thaliastra%C3%9Fe 148":MAILTO:michael@espresso-jackie.at
END:VEVENT
END:VCALENDAR