BEGIN:VCALENDAR
VERSION:2.0
PRODID:-//Espresso Jackie  - ECPv6.15.20//NONSGML v1.0//EN
CALSCALE:GREGORIAN
METHOD:PUBLISH
X-WR-CALNAME:Espresso Jackie 
X-ORIGINAL-URL:https://espresso-jackie.at
X-WR-CALDESC:Veranstaltungen für Espresso Jackie 
REFRESH-INTERVAL;VALUE=DURATION:PT1H
X-Robots-Tag:noindex
X-PUBLISHED-TTL:PT1H
BEGIN:VTIMEZONE
TZID:UTC
BEGIN:STANDARD
TZOFFSETFROM:+0000
TZOFFSETTO:+0000
TZNAME:UTC
DTSTART:20250101T000000
END:STANDARD
END:VTIMEZONE
BEGIN:VEVENT
DTSTART;TZID=UTC:20260227T073000
DTEND;TZID=UTC:20260227T210000
DTSTAMP:20260419T165953
CREATED:20251107T182518Z
LAST-MODIFIED:20260108T204244Z
UID:895-1772177400-1772226000@espresso-jackie.at
SUMMARY:Musik@Jackie - „We do not do Winter - Frühlings Bleamerl aufwecken“ mit Franz und Renate
DESCRIPTION:Das „Jackie“ lädt ein zur Karaoke-Show mit dem Party-Duo Franz & Renate.Evergreens\, Austropop & echte Mitsing-Klassiker –ganz nach dem Motto „Frühlings-Bleamerl aufwecken“ 🌼 \n\n\n\nWie immer ist im Jackie für gute Stimmung sowie Speis & Trank bestens gesorgt.Mikro schnappen\, Lieblingssong wählen und gemeinsam den Frühling herbeisingen! \n\n\n\nEspresso Jackie – #HierSpieltDieMusik
URL:https://espresso-jackie.at/event/musikjackie-karaoke-duo/
LOCATION:Espresso Jackie\, Thaliastraße 148\, Wien\, 1160\, Austria
ORGANIZER;CN="Espresso Jackie Thaliastra%C3%9Fe 148":MAILTO:michael@espresso-jackie.at
END:VEVENT
END:VCALENDAR