BEGIN:VCALENDAR
VERSION:2.0
PRODID:-//Espresso Jackie  - ECPv6.15.20//NONSGML v1.0//EN
CALSCALE:GREGORIAN
METHOD:PUBLISH
X-WR-CALNAME:Espresso Jackie 
X-ORIGINAL-URL:https://espresso-jackie.at
X-WR-CALDESC:Veranstaltungen für Espresso Jackie 
REFRESH-INTERVAL;VALUE=DURATION:PT1H
X-Robots-Tag:noindex
X-PUBLISHED-TTL:PT1H
BEGIN:VTIMEZONE
TZID:UTC
BEGIN:STANDARD
TZOFFSETFROM:+0000
TZOFFSETTO:+0000
TZNAME:UTC
DTSTART:20250101T000000
END:STANDARD
END:VTIMEZONE
BEGIN:VEVENT
DTSTART;TZID=UTC:20260509T180000
DTEND;TZID=UTC:20260509T213000
DTSTAMP:20260419T170037
CREATED:20251227T173016Z
LAST-MODIFIED:20260406T093612Z
UID:911-1778349600-1778362200@espresso-jackie.at
SUMMARY:Musik@Jackie - "The Legends of Country & Swing" mit Kurt Leimer
DESCRIPTION:„Mailüfterl“: Eine musikalische Reise mit Kurt Laimer and Friends \n\n\n\nHolt tief Luft und lasst euch vom „Mailüfterl“ mitreißen!  \n\n\n\nAm 9.5. präsentieren wir euch einen besonderen musikalischen Abend: „The Legends of Country and Swing“ mit dem charmanten Kurt Laimer and Friends.  \n\n\n\nErlebt eine unvergessliche Reise durch die größten Hits des Country und das beschwingte Flair des Swing. \n\n\n\nWir verwöhnen euch wieder mit einem kulinarischen Highlight\, das perfekt zur musikalischen Darbietung passt\, und sorgen für beste Stimmung.  \n\n\n\nEin Abend voller Melodien\, die das Herz erwärmen und die Füße zum Swingen bringen. Freut euch auf pure musikalische Leidenschaft! \n\n\n\nEspresso Jackie – #HierSpieltDieMusik
URL:https://espresso-jackie.at/event/musikjackie-mit-kurt-leimer/
LOCATION:Espresso Jackie\, Thaliastraße 148\, Wien\, 1160\, Austria
ATTACH;FMTTYPE=image/jpeg:https://espresso-jackie.at/wp-content/uploads/2025/12/WhatsApp-Image-2026-02-22-at-15.37.06.jpeg
ORGANIZER;CN="Espresso Jackie Thaliastra%C3%9Fe 148":MAILTO:michael@espresso-jackie.at
END:VEVENT
END:VCALENDAR