BEGIN:VCALENDAR
VERSION:2.0
PRODID:-//Espresso Jackie  - ECPv6.15.20//NONSGML v1.0//EN
CALSCALE:GREGORIAN
METHOD:PUBLISH
X-ORIGINAL-URL:https://espresso-jackie.at
X-WR-CALDESC:Veranstaltungen für Espresso Jackie 
REFRESH-INTERVAL;VALUE=DURATION:PT1H
X-Robots-Tag:noindex
X-PUBLISHED-TTL:PT1H
BEGIN:VTIMEZONE
TZID:UTC
BEGIN:STANDARD
TZOFFSETFROM:+0000
TZOFFSETTO:+0000
TZNAME:UTC
DTSTART:20250101T000000
END:STANDARD
END:VTIMEZONE
BEGIN:VEVENT
DTSTART;TZID=UTC:20260530T140000
DTEND;TZID=UTC:20260530T213000
DTSTAMP:20260419T170341
CREATED:20260108T205043Z
LAST-MODIFIED:20260406T095722Z
UID:960-1780149600-1780176600@espresso-jackie.at
SUMMARY:Kultur @Jackie - "Asien - Philipinisches - Indonesisches FRIENDSHIP Festival 2026" mit Karaoke und feinen Spezialitäten
DESCRIPTION:Asien – Philippinisch-Indonesisches FRIENDSHIP Festival 2026 \n\n\n\n​Ein Abend im Zeichen der Freundschaft\, des Genusses und der Musik! \n\n\n\n​Am 30. Mai verwandelt sich das „Jackie“ in einen lebendigen Treffpunkt der Kulturen.  \n\n\n\nUnter dem Motto „Asien – Philippinisch-Indonesisches FRIENDSHIP Festival 2026“ feiern wir ein Fest\, das Verbindungen schafft und die Vielfalt zelebriert. \n\n\n\n​Das erwartet Dich:\n\n\n\n\n​Kulinarische Reise: Lass Dich sich von feinen Spezialitäten aus Asien verwöhnen. Wir bringen die authentischen Aromen der Philippinen und Indonesiens direkt zu uns ins die Vorstadt.\n\n\n\n​Karaoke-Party mit DJ Wolfgang: Singe Deine Ihre Lieblingshits! DJ Wolfgang sorgt für den perfekten Sound und die richtige Stimmung\, damit kein Fuß stillsteht.\n\n\n\n​Multi-Kulti Spirit: Wir bauen Brücken. Freue Dich auf einen spannenden Abend voller Begegnungen\, Lachen und guter Gespräche.\n\n\n\n\n​Komm vorbei und werde Teil eines unvergesslichen Abends\, der hoffentlich noch lange in Ihren Ohren und Herzen nachklingen wird.  \n\n\n\nWir freuen uns auf Dich!
URL:https://espresso-jackie.at/event/kulturjackie-asien-philipinisches-indonesisches-friendship-festival-2026/
LOCATION:Espresso Jackie\, Thaliastraße 148\, Wien\, 1160\, Austria
ATTACH;FMTTYPE=image/png:https://espresso-jackie.at/wp-content/uploads/2026/04/Gemini_Generated_Image_w5k9guw5k9guw5k9-scaled.png
ORGANIZER;CN="Espresso Jackie Thaliastra%C3%9Fe 148":MAILTO:michael@espresso-jackie.at
END:VEVENT
END:VCALENDAR