BEGIN:VCALENDAR
VERSION:2.0
PRODID:-//Espresso Jackie  - ECPv6.15.20//NONSGML v1.0//EN
CALSCALE:GREGORIAN
METHOD:PUBLISH
X-WR-CALNAME:Espresso Jackie 
X-ORIGINAL-URL:https://espresso-jackie.at
X-WR-CALDESC:Veranstaltungen für Espresso Jackie 
REFRESH-INTERVAL;VALUE=DURATION:PT1H
X-Robots-Tag:noindex
X-PUBLISHED-TTL:PT1H
BEGIN:VTIMEZONE
TZID:UTC
BEGIN:STANDARD
TZOFFSETFROM:+0000
TZOFFSETTO:+0000
TZNAME:UTC
DTSTART:20240101T000000
END:STANDARD
END:VTIMEZONE
BEGIN:VEVENT
DTSTART;TZID=UTC:20251108T030000
DTEND;TZID=UTC:20251108T063000
DTSTAMP:20260419T220904
CREATED:20250911T092534Z
LAST-MODIFIED:20250911T092540Z
UID:779-1762570800-1762583400@espresso-jackie.at
SUMMARY:Gesellschaftsschnapsen @ Jackie
DESCRIPTION:Gesellschaftsschnapsen im Jackie 😉 – bei Interesse\, sprich uns an!
URL:https://espresso-jackie.at/event/gesellschaftsschnapsen-jackie/
LOCATION:Thaliastraße 148\, 1160 Wien
END:VEVENT
BEGIN:VEVENT
DTSTART;TZID=UTC:20251129T173000
DTEND;TZID=UTC:20251129T220000
DTSTAMP:20260419T220905
CREATED:20250830T071332Z
LAST-MODIFIED:20250830T071534Z
UID:769-1764437400-1764453600@espresso-jackie.at
SUMMARY:Musik@Jackie - mit Freddy Brix
DESCRIPTION:save the date – Details folgen
URL:https://espresso-jackie.at/event/musikjackie-mit-freddy-brix/
LOCATION:Espresso Jackie\, Thaliastraße 148\, Wien\, 1160\, Austria
ORGANIZER;CN="Espresso Jackie%3B Thaliastra%C3%9Fe 148":MAILTO:michael@espresso-jackie.at
END:VEVENT
END:VCALENDAR